BEGIN:VCALENDAR
VERSION:2.0
PRODID:-//Wandering Wil - ECPv5.4.0.2//NONSGML v1.0//EN
CALSCALE:GREGORIAN
METHOD:PUBLISH
X-WR-CALNAME:Wandering Wil
X-ORIGINAL-URL:https://www.wanderingwil.com
X-WR-CALDESC:Eventi per Wandering Wil
BEGIN:VTIMEZONE
TZID:Europe/Helsinki
BEGIN:DAYLIGHT
TZOFFSETFROM:+0200
TZOFFSETTO:+0300
TZNAME:EEST
DTSTART:20170326T010000
END:DAYLIGHT
BEGIN:STANDARD
TZOFFSETFROM:+0300
TZOFFSETTO:+0200
TZNAME:EET
DTSTART:20171029T010000
END:STANDARD
END:VTIMEZONE
BEGIN:VEVENT
DTSTART;TZID=Europe/Helsinki:20170727T203000
DTEND;TZID=Europe/Helsinki:20170727T223000
DTSTAMP:20260416T061511
CREATED:20170609T130802Z
LAST-MODIFIED:20170613T160233Z
UID:6013-1501187400-1501194600@www.wanderingwil.com
SUMMARY:Presentazione - 27 Luglio - Asti
DESCRIPTION:Presentazione di “Sulla strada giusta”\, Ottolenghi Summer\, Asti\, il 27 luglio\, alle ore 20:30
URL:https://www.wanderingwil.com/evento/presentazione-27-luglio-asti/
LOCATION:Ottolenghi Summer\, Palazzo Ottolenghi\, Corso Alfieri 350\, Asti\, Asti\, 14100\, Italia
CATEGORIES:Presentazione
END:VEVENT
END:VCALENDAR